BEGIN:VCALENDAR
VERSION:2.0
PRODID:icalendar-ruby
CALSCALE:GREGORIAN
METHOD:PUBLISH
BEGIN:VEVENT
DTSTAMP:20260424T104126Z
UID:344-45060@htmassillon.com
DTSTART:20260426T143000Z
DTEND:20260426T154500Z
CLASS:PUBLIC
CREATED:20260423T193959
DESCRIPTION:Pastor: Rev. Tina Crog\nWorship Assistsnt: Kristy Jedel\nReader
 : Scott Jedel\nUshers: Ralph Stewart &amp\; Bill Wonsick
LAST-MODIFIED:20260423T193959
LOCATION:
SUMMARY:Sunday Worship: April 26\, 2026 
URL;VALUE=URI:https://www.htmassillon.com/events/sunday-worship-april-26-20
 26/2026-04-26
ATTACH;FILENAME=278481311_10160102561011385_3091139278679043130_n.jpeg;FMTT
 YPE=image/jpeg:https://dq5pwpg1q8ru0.cloudfront.net/2026/04/23/23/39/59/c8
 0c28bc-8e56-4db5-9bbc-0c9066cf6851/278481311_10160102561011385_30911392786
 79043130_n.jpeg
ATTACH;FILENAME=Worship Guide Easter4_April26_2026.docx;FMTTYPE=application
 /vnd.openxmlformats-officedocument.wordprocessingml.document:https://dq5pw
 pg1q8ru0.cloudfront.net/2026/04/23/23/39/57/4be628d0-09a5-43b1-9fb3-b66ec2
 6421e4/Worship%20Guide%20Easter4_April26_2026.docx
END:VEVENT
END:VCALENDAR
